BEGIN:VCALENDAR
VERSION:2.0
PRODID:-//Executive Forum - ECPv6.13.2.1//NONSGML v1.0//EN
CALSCALE:GREGORIAN
METHOD:PUBLISH
X-ORIGINAL-URL:https://executiveforum.net
X-WR-CALDESC:Events for Executive Forum
REFRESH-INTERVAL;VALUE=DURATION:PT1H
X-Robots-Tag:noindex
X-PUBLISHED-TTL:PT1H
BEGIN:VTIMEZONE
TZID:America/Denver
BEGIN:DAYLIGHT
TZOFFSETFROM:-0700
TZOFFSETTO:-0600
TZNAME:MDT
DTSTART:20160313T090000
END:DAYLIGHT
BEGIN:STANDARD
TZOFFSETFROM:-0600
TZOFFSETTO:-0700
TZNAME:MST
DTSTART:20161106T080000
END:STANDARD
BEGIN:DAYLIGHT
TZOFFSETFROM:-0700
TZOFFSETTO:-0600
TZNAME:MDT
DTSTART:20170312T090000
END:DAYLIGHT
BEGIN:STANDARD
TZOFFSETFROM:-0600
TZOFFSETTO:-0700
TZNAME:MST
DTSTART:20171105T080000
END:STANDARD
END:VTIMEZONE
BEGIN:VEVENT
DTSTART;TZID=America/Denver:20171206T083000
DTEND;TZID=America/Denver:20171206T113000
DTSTAMP:20260423T185027
CREATED:20161012T212938Z
LAST-MODIFIED:20161012T212938Z
UID:10109-1512549000-1512559800@executiveforum.net
SUMMARY:Leadership Series - Tommy Spaulding: The Heart-Led Leader @ The Denver Center for the Performing Arts
DESCRIPTION:The Heart-Led Leader \nGuest Speaker: Tommy Spaulding \n \n  \nWant More Information About This Program? CLICK HERE for details.
URL:https://executiveforum.net/event/leadership-series-tommy-spaulding-heart-led-leader-denver-center-performing-arts/
ATTACH;FMTTYPE=image/jpeg:https://executiveforum.net/wp-content/uploads/2016/09/tommy.spaulding-title.jpg
END:VEVENT
BEGIN:VEVENT
DTSTART;VALUE=DATE:20171206
DTEND;VALUE=DATE:20171207
DTSTAMP:20260423T185027
CREATED:20170208T205305Z
LAST-MODIFIED:20170208T205305Z
UID:10572-1512518400-1512604799@executiveforum.net
SUMMARY:Crucial Conversations -CoBank
DESCRIPTION:
URL:https://executiveforum.net/event/crucial-conversations-cobank-7/
END:VEVENT
BEGIN:VEVENT
DTSTART;VALUE=DATE:20171116
DTEND;VALUE=DATE:20171117
DTSTAMP:20260423T185027
CREATED:20170208T205240Z
LAST-MODIFIED:20170208T205240Z
UID:10570-1510790400-1510876799@executiveforum.net
SUMMARY:Crucial Conversations -CoBank
DESCRIPTION:
URL:https://executiveforum.net/event/crucial-conversations-cobank-6/
END:VEVENT
BEGIN:VEVENT
DTSTART;TZID=America/Denver:20171025T083000
DTEND;TZID=America/Denver:20171025T113000
DTSTAMP:20260423T185027
CREATED:20161012T212439Z
LAST-MODIFIED:20161012T212439Z
UID:10108-1508920200-1508931000@executiveforum.net
SUMMARY:Leadership Series - Rob Galford: Simple Sabotage @ The Denver Center for the Performing Arts
DESCRIPTION:Simple Sabotage \nGuest Speaker: Rob Galford \n \n  \nWant More Information About This Program? CLICK HERE for details.
URL:https://executiveforum.net/event/leadership-series-rob-galford-simple-sabotage-denver-center-performing-arts/
ATTACH;FMTTYPE=image/jpeg:https://executiveforum.net/wp-content/uploads/2016/09/rob.galford-title.jpg
END:VEVENT
BEGIN:VEVENT
DTSTART;TZID=America/Denver:20171023T080000
DTEND;TZID=America/Denver:20171024T170000
DTSTAMP:20260423T185027
CREATED:20170928T183629Z
LAST-MODIFIED:20170928T183629Z
UID:11145-1508745600-1508864400@executiveforum.net
SUMMARY:Chief Learning Officer Exchange
DESCRIPTION:
URL:https://executiveforum.net/event/chief-learning-officer-exchange/
END:VEVENT
BEGIN:VEVENT
DTSTART;TZID=America/Denver:20171018T090000
DTEND;TZID=America/Denver:20171018T113000
DTSTAMP:20260423T185027
CREATED:20170714T151331Z
LAST-MODIFIED:20170717T171425Z
UID:10859-1508317200-1508326200@executiveforum.net
SUMMARY:iLoveFeedback Virtual Classroom
DESCRIPTION:
URL:https://executiveforum.net/event/ilovefeedback-virtual-classroom/
END:VEVENT
BEGIN:VEVENT
DTSTART;TZID=America/Denver:20170916T080000
DTEND;TZID=America/Denver:20170920T170000
DTSTAMP:20260423T185027
CREATED:20170714T154647Z
LAST-MODIFIED:20170714T154647Z
UID:10861-1505548800-1505926800@executiveforum.net
SUMMARY:IPMA-HR International Training Conference & Expo
DESCRIPTION:
URL:https://executiveforum.net/event/ipma-hr-international-training-conference-expo/
LOCATION:San Antonio Marriott Rivercenter 101 Bowie Street San Antonio\, TX 78205\, 101 Bowie Street\, San Antonio\, TX\, 78205
END:VEVENT
BEGIN:VEVENT
DTSTART;TZID=America/Denver:20170913T083000
DTEND;TZID=America/Denver:20170913T113000
DTSTAMP:20260423T185027
CREATED:20161012T210126Z
LAST-MODIFIED:20161012T210126Z
UID:10107-1505291400-1505302200@executiveforum.net
SUMMARY:Leadership Series - Kelly McDonald: How to Lead People Not Like You @ The Denver Center for the Performing Arts
DESCRIPTION:How to Lead People Not Like You \nGuest Speaker: Kelly McDonald \n \n  \nWant More Information About This Program? CLICK HERE for details.
URL:https://executiveforum.net/event/leadership-series-kelly-mcdonald-lead-people-not-like-denver-center-performing-arts/
ATTACH;FMTTYPE=image/jpeg:https://executiveforum.net/wp-content/uploads/2016/09/kelly.mcDonald-title.jpg
END:VEVENT
BEGIN:VEVENT
DTSTART;VALUE=DATE:20170907
DTEND;VALUE=DATE:20170908
DTSTAMP:20260423T185027
CREATED:20170208T205215Z
LAST-MODIFIED:20170208T205215Z
UID:10568-1504742400-1504828799@executiveforum.net
SUMMARY:Crucial Conversations -CoBank
DESCRIPTION:
URL:https://executiveforum.net/event/crucial-conversations-cobank-5/
END:VEVENT
BEGIN:VEVENT
DTSTART;VALUE=DATE:20170824
DTEND;VALUE=DATE:20170825
DTSTAMP:20260423T185027
CREATED:20170208T205149Z
LAST-MODIFIED:20170208T205149Z
UID:10566-1503532800-1503619199@executiveforum.net
SUMMARY:Crucial Conversations -CoBank
DESCRIPTION:
URL:https://executiveforum.net/event/crucial-conversations-cobank-4/
END:VEVENT
BEGIN:VEVENT
DTSTART;TZID=America/Denver:20170816T090000
DTEND;TZID=America/Denver:20170816T113000
DTSTAMP:20260423T185027
CREATED:20170719T161643Z
LAST-MODIFIED:20170719T161714Z
UID:10889-1502874000-1502883000@executiveforum.net
SUMMARY:iLoveFeedback Virtual Classroom
DESCRIPTION:
URL:https://executiveforum.net/event/ilovefeed-back-virtual-classroom/
END:VEVENT
BEGIN:VEVENT
DTSTART;TZID=America/Denver:20170810T080000
DTEND;TZID=America/Denver:20170810T150000
DTSTAMP:20260423T185027
CREATED:20170714T150750Z
LAST-MODIFIED:20170714T150750Z
UID:10857-1502352000-1502377200@executiveforum.net
SUMMARY:iLoveFeedback Public Workshop and Certification
DESCRIPTION:
URL:https://executiveforum.net/event/ilovefeedback-public-workshop-certification/
END:VEVENT
BEGIN:VEVENT
DTSTART;TZID=America/Denver:20170621T083000
DTEND;TZID=America/Denver:20170621T113000
DTSTAMP:20260423T185027
CREATED:20161012T205308Z
LAST-MODIFIED:20161012T205308Z
UID:10106-1498033800-1498044600@executiveforum.net
SUMMARY:Leadership Series - Ryan Avery: Go From A to THE @ The Denver Center for the Performing Arts
DESCRIPTION:Go From A to THE \nGuest Speaker: Ryan Avery \n \n  \nWant More Information About This Program? CLICK HERE for details.
URL:https://executiveforum.net/event/leadership-series-ryan-avery-go-denver-center-performing-arts/
ATTACH;FMTTYPE=image/jpeg:https://executiveforum.net/wp-content/uploads/2016/09/ryan.avery-title.jpg
END:VEVENT
BEGIN:VEVENT
DTSTART;VALUE=DATE:20170608
DTEND;VALUE=DATE:20170609
DTSTAMP:20260423T185027
CREATED:20170208T205123Z
LAST-MODIFIED:20170208T205123Z
UID:10564-1496880000-1496966399@executiveforum.net
SUMMARY:Crucial Conversations -CoBank
DESCRIPTION:
URL:https://executiveforum.net/event/crucial-conversations-cobank-3/
END:VEVENT
BEGIN:VEVENT
DTSTART;VALUE=DATE:20170518
DTEND;VALUE=DATE:20170519
DTSTAMP:20260423T185027
CREATED:20170208T204814Z
LAST-MODIFIED:20170208T205037Z
UID:10559-1495065600-1495151999@executiveforum.net
SUMMARY:Crucial Conversations -CoBank
DESCRIPTION:
URL:https://executiveforum.net/event/crucial-conversations-cobank/
END:VEVENT
BEGIN:VEVENT
DTSTART;VALUE=DATE:20170510
DTEND;VALUE=DATE:20170512
DTSTAMP:20260423T185027
CREATED:20170208T205418Z
LAST-MODIFIED:20170208T205418Z
UID:10574-1494374400-1494547199@executiveforum.net
SUMMARY:Crucial Conversations -Terumo BCT
DESCRIPTION:
URL:https://executiveforum.net/event/crucial-conversations-terumo-bct/
END:VEVENT
BEGIN:VEVENT
DTSTART;TZID=America/Denver:20170509T083000
DTEND;TZID=America/Denver:20170509T113000
DTSTAMP:20260423T185027
CREATED:20161012T204836Z
LAST-MODIFIED:20161012T204836Z
UID:10105-1494318600-1494329400@executiveforum.net
SUMMARY:Leadership Series - Michelle Cummings: Personify Leadership @ The Denver Center for the Performing Arts
DESCRIPTION:Personify Leadership \nGuest Speaker: Michelle Cummings \n \n  \nWant More Information About This Program? CLICK HERE for details.
URL:https://executiveforum.net/event/leadership-series-michelle-cummings-personify-leadership-denver-center-performing-arts/
ATTACH;FMTTYPE=image/jpeg:https://executiveforum.net/wp-content/uploads/2016/09/michelle.cummings-title.jpg
END:VEVENT
BEGIN:VEVENT
DTSTART;VALUE=DATE:20170426
DTEND;VALUE=DATE:20170427
DTSTAMP:20260423T185027
CREATED:20170208T210301Z
LAST-MODIFIED:20170208T210301Z
UID:10578-1493164800-1493251199@executiveforum.net
SUMMARY:Influencer Training- State of Colorado
DESCRIPTION:
URL:https://executiveforum.net/event/influencer-training-state-colorado/
END:VEVENT
BEGIN:VEVENT
DTSTART;TZID=America/Denver:20170321T083000
DTEND;TZID=America/Denver:20170321T113000
DTSTAMP:20260423T185027
CREATED:20161010T220938Z
LAST-MODIFIED:20161012T203525Z
UID:10097-1490085000-1490095800@executiveforum.net
SUMMARY:Leadership Series - Carmine Gallo: The Storyteller's Secret @ The Denver Center for the Performing Arts
DESCRIPTION:The Storyteller's Secret \nGuest Speaker: Carmine Gallo \n \nWant More Information About This Program? CLICK HERE for details.
URL:https://executiveforum.net/event/leadership-series-carmine-gallo-storytellers-secret-denver-center-performing-arts/
ATTACH;FMTTYPE=image/jpeg:https://executiveforum.net/wp-content/uploads/2016/09/carmine_gallo-17-title.jpg
END:VEVENT
BEGIN:VEVENT
DTSTART;VALUE=DATE:20170309
DTEND;VALUE=DATE:20170310
DTSTAMP:20260423T185027
CREATED:20170208T204837Z
LAST-MODIFIED:20170208T204837Z
UID:10561-1489017600-1489103999@executiveforum.net
SUMMARY:Crucial Conversations -CoBank
DESCRIPTION:
URL:https://executiveforum.net/event/crucial-conversations-cobank-2/
END:VEVENT
BEGIN:VEVENT
DTSTART;VALUE=DATE:20170307
DTEND;VALUE=DATE:20170311
DTSTAMP:20260423T185027
CREATED:20170208T205652Z
LAST-MODIFIED:20170208T205652Z
UID:10576-1488844800-1489190399@executiveforum.net
SUMMARY:Crucial Conversations -Public Class
DESCRIPTION:
URL:https://executiveforum.net/event/crucial-conversations-public-class/
END:VEVENT
BEGIN:VEVENT
DTSTART;VALUE=DATE:20170228
DTEND;VALUE=DATE:20170301
DTSTAMP:20260423T185027
CREATED:20170208T210449Z
LAST-MODIFIED:20170208T210449Z
UID:10580-1488240000-1488326399@executiveforum.net
SUMMARY:Crucial Conversations -CoBank
DESCRIPTION:
URL:https://executiveforum.net/event/crucial-conversations-cobank-8/
END:VEVENT
BEGIN:VEVENT
DTSTART;VALUE=DATE:20170224
DTEND;VALUE=DATE:20170225
DTSTAMP:20260423T185027
CREATED:20170208T210549Z
LAST-MODIFIED:20170208T210610Z
UID:10582-1487894400-1487980799@executiveforum.net
SUMMARY:iLoveFeedback- Public Class
DESCRIPTION:
URL:https://executiveforum.net/event/ilovefeedback-public-class/
END:VEVENT
BEGIN:VEVENT
DTSTART;TZID=America/Denver:20170202T083000
DTEND;TZID=America/Denver:20170202T113000
DTSTAMP:20260423T185027
CREATED:20161010T192718Z
LAST-MODIFIED:20161012T203418Z
UID:10096-1486024200-1486035000@executiveforum.net
SUMMARY:Leadership Series - Mary Kelly: Leadership Productivity @ The Denver Center for the Performing Arts
DESCRIPTION:Leadership Productivity \nGuest Speaker: Mary Kelly \n \nWant More Information About This Program? CLICK HERE for details.
URL:https://executiveforum.net/event/leadership-series-mary-kelly-leadership-productivity-denver-center-performing-arts/
ATTACH;FMTTYPE=image/jpeg:https://executiveforum.net/wp-content/uploads/2016/09/mary_kelly-title.jpg
END:VEVENT
BEGIN:VEVENT
DTSTART;VALUE=DATE:20170124
DTEND;VALUE=DATE:20170126
DTSTAMP:20260423T185027
CREATED:20170208T204602Z
LAST-MODIFIED:20170208T204602Z
UID:10557-1485216000-1485388799@executiveforum.net
SUMMARY:Crucial Conversations- MidAtlantic Farm Credit
DESCRIPTION:
URL:https://executiveforum.net/event/crucial-conversations-midatlantic-farm-credit/
END:VEVENT
BEGIN:VEVENT
DTSTART;VALUE=DATE:20170112
DTEND;VALUE=DATE:20170113
DTSTAMP:20260423T185027
CREATED:20170208T204447Z
LAST-MODIFIED:20170208T204447Z
UID:10555-1484179200-1484265599@executiveforum.net
SUMMARY:iLoveFeedback Workshop- CU Denver
DESCRIPTION:
URL:https://executiveforum.net/event/ilovefeedback-workshop-cu-denver/
END:VEVENT
BEGIN:VEVENT
DTSTART;TZID=America/Denver:20161206T083000
DTEND;TZID=America/Denver:20161206T113000
DTSTAMP:20260423T185027
CREATED:20160601T052907Z
LAST-MODIFIED:20170201T144322Z
UID:9688-1481013000-1481023800@executiveforum.net
SUMMARY:Leadership Series - Elise Foster: Multipliers @ The Denver Center for the Performing Arts
DESCRIPTION:Multipliers \nGuest Speaker: Elise Foster \n \nWant More Information About This Program? CLICK HERE for details.
URL:https://executiveforum.net/event/leadership-series-multipliers-the-denver-center-for-the-performing-arts/
ATTACH;FMTTYPE=image/jpeg:https://executiveforum.net/wp-content/uploads/2016/05/elise_foster-title.jpg
END:VEVENT
BEGIN:VEVENT
DTSTART;TZID=America/Denver:20161025T083000
DTEND;TZID=America/Denver:20161025T113000
DTSTAMP:20260423T185027
CREATED:20160601T051920Z
LAST-MODIFIED:20160601T054437Z
UID:9686-1477384200-1477395000@executiveforum.net
SUMMARY:Leadership Series - Gustavo Grodnitzky: Culture Trumps Everything @ The Denver Center for the Performing Arts
DESCRIPTION:Culture Trumps Everything \nGuest Speaker: Gustavo Grodnitzky \n \nWant More Information About This Program? CLICK HERE for details.
URL:https://executiveforum.net/event/leadership-series-gustavo-grodnitzky-culture-trumps-everything-the-denver-center-for-the-performing-arts/
CATEGORIES:Leadership Series
ATTACH;FMTTYPE=image/jpeg:https://executiveforum.net/wp-content/uploads/2016/05/g._grodnitzky-title.jpg
END:VEVENT
BEGIN:VEVENT
DTSTART;TZID=America/Denver:20160913T083000
DTEND;TZID=America/Denver:20160913T113000
DTSTAMP:20260423T185027
CREATED:20160527T231730Z
LAST-MODIFIED:20160601T052553Z
UID:9615-1473755400-1473766200@executiveforum.net
SUMMARY:Leadership Series - Jason Jennings: The Reinventors @ The Denver Center for the Performing Arts
DESCRIPTION:The Reinventors \nGuest Speaker: Jason Jennings \n \n  \nWant More Information About This Program? CLICK HERE for details.
URL:https://executiveforum.net/event/leadership-series-jason-jennings-the-reinventors-091316-the-denver-center-for-the-performing-arts/
CATEGORIES:Leadership Series
ATTACH;FMTTYPE=image/jpeg:https://executiveforum.net/wp-content/uploads/2016/05/jason_jennings-title.jpg
END:VEVENT
BEGIN:VEVENT
DTSTART;TZID=America/Denver:20160621T083000
DTEND;TZID=America/Denver:20160621T113000
DTSTAMP:20260423T185027
CREATED:20160531T142113Z
LAST-MODIFIED:20160601T050634Z
UID:9662-1466497800-1466508600@executiveforum.net
SUMMARY:Leadership Series - Mike Hyter: Power of Choice @ The Denver Center for the Performing Arts
DESCRIPTION:Power of Choice \nGuest Speaker: Mike Hyter \n \n&nbsp; \nWant More Information About This Program? CLICK HERE for details.
URL:https://executiveforum.net/event/mike-hyter-power-of-choice-embracing-efficacy-to-drive-career-growth-and-organizational-performance/
CATEGORIES:Leadership Series
ATTACH;FMTTYPE=image/jpeg:https://executiveforum.net/wp-content/uploads/2016/05/mike_hyter-title.jpg
END:VEVENT
END:VCALENDAR