BEGIN:VCALENDAR
VERSION:2.0
PRODID:-//Executive Forum - ECPv6.13.2.1//NONSGML v1.0//EN
CALSCALE:GREGORIAN
METHOD:PUBLISH
X-ORIGINAL-URL:https://executiveforum.net
X-WR-CALDESC:Events for Executive Forum
REFRESH-INTERVAL;VALUE=DURATION:PT1H
X-Robots-Tag:noindex
X-PUBLISHED-TTL:PT1H
BEGIN:VTIMEZONE
TZID:UTC
BEGIN:STANDARD
TZOFFSETFROM:+0000
TZOFFSETTO:+0000
TZNAME:UTC
DTSTART:20160101T000000
END:STANDARD
END:VTIMEZONE
BEGIN:VEVENT
DTSTART;TZID=UTC:20160129T080000
DTEND;TZID=UTC:20160129T120000
DTSTAMP:20260424T011242
CREATED:20160121T121629Z
LAST-MODIFIED:20160121T121736Z
UID:7455-1454054400-1454068800@executiveforum.net
SUMMARY:Crucial Conversations Trainer Certification
DESCRIPTION:
URL:https://executiveforum.net/event/crucial-conversations-trainer-certification-2/
LOCATION:MetroPoint I\, 4600 South Ulster Street\, Denver\, CO\, 80237\, United States
CATEGORIES:Crucial Conversations
ATTACH;FMTTYPE=image/jpeg:https://executiveforum.net/wp-content/uploads/2016/01/leader-talking-e1464705884284.jpg
ORGANIZER;CN="Karyn Guilford":MAILTO:karyn.guilford@executiveforum.net
END:VEVENT
BEGIN:VEVENT
DTSTART;TZID=UTC:20160128T080000
DTEND;TZID=UTC:20160128T170000
DTSTAMP:20260424T011242
CREATED:20160121T121134Z
LAST-MODIFIED:20160125T151423Z
UID:7452-1453968000-1454000400@executiveforum.net
SUMMARY:Crucial Conversations Trainer Certification
DESCRIPTION:
URL:https://executiveforum.net/event/crucial-conversations-trainer-certification/
LOCATION:MetroPoint I\, 4600 South Ulster Street\, Denver\, CO\, 80237\, United States
CATEGORIES:Crucial Conversations
ATTACH;FMTTYPE=image/jpeg:https://executiveforum.net/wp-content/uploads/2016/01/leader-talking-e1464705884284.jpg
ORGANIZER;CN="Karyn Guilford":MAILTO:karyn.guilford@executiveforum.net
END:VEVENT
BEGIN:VEVENT
DTSTART;TZID=UTC:20160127T083000
DTEND;TZID=UTC:20160127T113000
DTSTAMP:20260424T011242
CREATED:20160121T115805Z
LAST-MODIFIED:20160601T050458Z
UID:7448-1453883400-1453894200@executiveforum.net
SUMMARY:Leadership Series - Seth Mattison: The Future of Work @ The Denver Center for the Performing Arts
DESCRIPTION:The Future of Work \nGuest Speaker: Seth Mattison \n \nWant More Information About This Program? CLICK HERE for details.
URL:https://executiveforum.net/event/leadership-series-seth-mattison-the-future-of-work/
LOCATION:The Denver Center for the Performing Arts\, 1101 13th Street\, Denver\, CO\, 80204\, United States
CATEGORIES:Leadership Series
ATTACH;FMTTYPE=image/jpeg:https://executiveforum.net/wp-content/uploads/2016/05/seth_mattison-title_1k.jpg
ORGANIZER;CN="Ann Albergotti":MAILTO:ann.albergotti@executiveforum.net
END:VEVENT
END:VCALENDAR