BEGIN:VCALENDAR
VERSION:2.0
PRODID:-//Executive Forum - ECPv6.13.2.1//NONSGML v1.0//EN
CALSCALE:GREGORIAN
METHOD:PUBLISH
X-WR-CALNAME:Executive Forum
X-ORIGINAL-URL:https://executiveforum.net
X-WR-CALDESC:Events for Executive Forum
REFRESH-INTERVAL;VALUE=DURATION:PT1H
X-Robots-Tag:noindex
X-PUBLISHED-TTL:PT1H
BEGIN:VTIMEZONE
TZID:America/Denver
BEGIN:DAYLIGHT
TZOFFSETFROM:-0700
TZOFFSETTO:-0600
TZNAME:MDT
DTSTART:20160313T090000
END:DAYLIGHT
BEGIN:STANDARD
TZOFFSETFROM:-0600
TZOFFSETTO:-0700
TZNAME:MST
DTSTART:20161106T080000
END:STANDARD
BEGIN:DAYLIGHT
TZOFFSETFROM:-0700
TZOFFSETTO:-0600
TZNAME:MDT
DTSTART:20170312T090000
END:DAYLIGHT
BEGIN:STANDARD
TZOFFSETFROM:-0600
TZOFFSETTO:-0700
TZNAME:MST
DTSTART:20171105T080000
END:STANDARD
BEGIN:DAYLIGHT
TZOFFSETFROM:-0700
TZOFFSETTO:-0600
TZNAME:MDT
DTSTART:20180311T090000
END:DAYLIGHT
BEGIN:STANDARD
TZOFFSETFROM:-0600
TZOFFSETTO:-0700
TZNAME:MST
DTSTART:20181104T080000
END:STANDARD
BEGIN:DAYLIGHT
TZOFFSETFROM:-0700
TZOFFSETTO:-0600
TZNAME:MDT
DTSTART:20190310T090000
END:DAYLIGHT
BEGIN:STANDARD
TZOFFSETFROM:-0600
TZOFFSETTO:-0700
TZNAME:MST
DTSTART:20191103T080000
END:STANDARD
BEGIN:DAYLIGHT
TZOFFSETFROM:-0700
TZOFFSETTO:-0600
TZNAME:MDT
DTSTART:20200308T090000
END:DAYLIGHT
BEGIN:STANDARD
TZOFFSETFROM:-0600
TZOFFSETTO:-0700
TZNAME:MST
DTSTART:20201101T080000
END:STANDARD
BEGIN:DAYLIGHT
TZOFFSETFROM:-0700
TZOFFSETTO:-0600
TZNAME:MDT
DTSTART:20210314T090000
END:DAYLIGHT
BEGIN:STANDARD
TZOFFSETFROM:-0600
TZOFFSETTO:-0700
TZNAME:MST
DTSTART:20211107T080000
END:STANDARD
BEGIN:DAYLIGHT
TZOFFSETFROM:-0700
TZOFFSETTO:-0600
TZNAME:MDT
DTSTART:20220313T090000
END:DAYLIGHT
BEGIN:STANDARD
TZOFFSETFROM:-0600
TZOFFSETTO:-0700
TZNAME:MST
DTSTART:20221106T080000
END:STANDARD
END:VTIMEZONE
BEGIN:VTIMEZONE
TZID:UTC
BEGIN:STANDARD
TZOFFSETFROM:+0000
TZOFFSETTO:+0000
TZNAME:UTC
DTSTART:20160101T000000
END:STANDARD
END:VTIMEZONE
BEGIN:VEVENT
DTSTART;TZID=America/Denver:20220224T090000
DTEND;TZID=America/Denver:20220224T103000
DTSTAMP:20260423T140318
CREATED:20220215T172414Z
LAST-MODIFIED:20220216T154251Z
UID:13166-1645693200-1645698600@executiveforum.net
SUMMARY:Leadership Series Presents: Jill Christensen
DESCRIPTION:Jill Christensen  \n \n  \n  \n  \n  \n  \n  \nIf Not You\, Who? How to Crack the Code of Employee Disengagement \nOrganizations that excel at employee engagement outperform their peers\nby a wide\, wide margin. How\, then\, can an organization and its leaders do\nwhat so many others can’t and keep their people engaged? The answer\nlies in best-selling author Jill Christensen’s proven strategies for turning\ndisinterested workers into unified\, motivated high-performers who are\nready\, willing and able to provide the discretionary effort that organizations\ndepend on to flourish. \n  \nVirtually Presented on Zoom
URL:https://executiveforum.net/event/leadership-series-presents-jill-christensen/
CATEGORIES:Leadership Series
END:VEVENT
BEGIN:VEVENT
DTSTART;TZID=America/Denver:20201208T083000
DTEND;TZID=America/Denver:20201208T113000
DTSTAMP:20260423T140319
CREATED:20191118T183811Z
LAST-MODIFIED:20191118T183811Z
UID:12911-1607416200-1607427000@executiveforum.net
SUMMARY:Executive Forum’s Leadership Series® Presents Scott Halford
DESCRIPTION:Activate Your Brain: The Neuroscience of Success \nAt the unique intersection between business strategy and brain science\, Scott Halford sheds light on\nwhat turns people on and what turns them off\, what attracts them and what repels them\, and how\nleaders can channel these “soft” insights to get the “hard” results they seek. \nRegister today!  Contact Lea Almagno at 303-796-0444 or Lea.Almagno@executiveforum.net
URL:https://executiveforum.net/event/executive-forums-leadership-series-presents-scott-halford/
LOCATION:The Denver Center for the Performing Arts\, 1101 13th Street\, Denver\, CO\, 80204\, United States
CATEGORIES:Leadership Series
ATTACH;FMTTYPE=image/jpeg:https://executiveforum.net/wp-content/uploads/2019/11/LS-Logo.jpg
END:VEVENT
BEGIN:VEVENT
DTSTART;TZID=America/Denver:20201027T083000
DTEND;TZID=America/Denver:20201027T113000
DTSTAMP:20260423T140319
CREATED:20191118T183314Z
LAST-MODIFIED:20191118T183901Z
UID:12907-1603787400-1603798200@executiveforum.net
SUMMARY:Executive Forum’s Leadership Series® Presents Corey Ciocchetti
DESCRIPTION:Inspire Integrity: Chase an Authentic Life \nKeen business mind Corey Ciocchetti connects the dots between ethics\, business excellence and\nindividual fulfillment with leadership approaches that elevate people by inspiring them to act with\nintegrity and purpose. For organizations that want to take the high road to success\, Ciocchetti’s\nperspective is not only refreshing\, it’s revelatory. \nRegister today!  Contact Lea Almagno at 303-796-0444 or Lea.Almagno@executiveforum.net
URL:https://executiveforum.net/event/executive-forums-leadership-series-presents-corey-ciocchetti/
LOCATION:The Denver Center for the Performing Arts\, 1101 13th Street\, Denver\, CO\, 80204\, United States
CATEGORIES:Leadership Series
ATTACH;FMTTYPE=image/jpeg:https://executiveforum.net/wp-content/uploads/2019/11/LS-Logo.jpg
ORGANIZER;CN="Lea Almagno":MAILTO:lea.almagno@executiveforum.net
END:VEVENT
BEGIN:VEVENT
DTSTART;TZID=America/Denver:20200915T083000
DTEND;TZID=America/Denver:20200915T113000
DTSTAMP:20260423T140319
CREATED:20191118T182913Z
LAST-MODIFIED:20191127T173826Z
UID:12905-1600158600-1600169400@executiveforum.net
SUMMARY:Executive Forum’s Leadership Series® Presents Mike Lipkin
DESCRIPTION:Dancing with Disruption: The Seven Secrets to Thriving on Massive Change so the Best People Want to Partner with You \nAs someone who’s made a career out of showing organizations how to gain a competitive advantage\nthrough disruption\, Mike Lipkin gives leaders a proven playbook for shaping a workplace culture where\npeople come to work every day\, primed to generate and execute on new ideas. \nRegister today!  Contact Lea Almagno at 303-796-0444 or Lea.Almagno@executiveforum.net
URL:https://executiveforum.net/event/executive-forums-leadership-series-presents-mike-lipkin/
LOCATION:The Denver Center for the Performing Arts\, 1101 13th Street\, Denver\, CO\, 80204\, United States
CATEGORIES:Leadership Series
ATTACH;FMTTYPE=image/jpeg:https://executiveforum.net/wp-content/uploads/2019/11/LS-Logo.jpg
END:VEVENT
BEGIN:VEVENT
DTSTART;TZID=America/Denver:20200624T083000
DTEND;TZID=America/Denver:20200624T113000
DTSTAMP:20260423T140319
CREATED:20191118T182709Z
LAST-MODIFIED:20191118T184105Z
UID:12903-1592987400-1592998200@executiveforum.net
SUMMARY:Executive Forum’s Leadership Series® Presents Tracy “JackieO” LaTourrette
DESCRIPTION:Flawless Execution: Use the Techniques and Systems of America’s Fighter Pilots to Perform at Your Peak and Win the Battles of the Business World \nUp your execution game by learning from someone whose job leaves no room for missteps\, decorated\nmilitary fighter pilot turned business strategist Tracy “JackieO” LaTourrette. The tips\, tactics and\nstrategies she shares work as well in a business setting as they do in the air. \nRegister today!  Contact Lea Almagno at 303-796-0444 or Lea.Almagno@executiveforum.net
URL:https://executiveforum.net/event/executive-forums-leadership-series-presents-tracy-jackieo-latourrette/
LOCATION:The Denver Center for the Performing Arts\, 1101 13th Street\, Denver\, CO\, 80204\, United States
CATEGORIES:Leadership Series
ATTACH;FMTTYPE=image/jpeg:https://executiveforum.net/wp-content/uploads/2019/11/LS-Logo.jpg
ORGANIZER;CN="Lea Almagno":MAILTO:lea.almagno@executiveforum.net
END:VEVENT
BEGIN:VEVENT
DTSTART;TZID=America/Denver:20200512T083000
DTEND;TZID=America/Denver:20200512T113000
DTSTAMP:20260423T140319
CREATED:20191118T182339Z
LAST-MODIFIED:20191118T184345Z
UID:12901-1589272200-1589283000@executiveforum.net
SUMMARY:Executive Forum’s Leadership Series® Presents Torin Perez
DESCRIPTION:  \n \nBecoming an Inclusive Leader: Breaking Biases to Live and Lead with Openness\, Understanding and Inclusion \nHow much more could you and your teams achieve without the burden of internal bias? Business\ntransformation guru Torin Perez shows leaders not only how to recognize the biases that may be\nundermining their teams\, their outcomes and their own leadership\, but also how to move past them\, to\nelevate people and their performance. \nRegister today!  Contact Lea Almagno at 303-796-0444 or Lea.Almagno@executiveforum.net
URL:https://executiveforum.net/event/executive-forums-leadership-series-presents-torin-perez/
LOCATION:The Denver Center for the Performing Arts\, 1101 13th Street\, Denver\, CO\, 80204\, United States
CATEGORIES:Leadership Series
ATTACH;FMTTYPE=image/jpeg:https://executiveforum.net/wp-content/uploads/2019/11/LS-Logo.jpg
ORGANIZER;CN="Lea Almagno":MAILTO:lea.almagno@executiveforum.net
END:VEVENT
BEGIN:VEVENT
DTSTART;TZID=America/Denver:20200318T083000
DTEND;TZID=America/Denver:20200318T113000
DTSTAMP:20260423T140319
CREATED:20191118T182128Z
LAST-MODIFIED:20191118T184440Z
UID:12899-1584520200-1584531000@executiveforum.net
SUMMARY:Executive Forum’s Leadership Series® Presents Weldon Long
DESCRIPTION:The Power of Consistency: Achieving Greatness in the Face of Adversity \nSetbacks happen. It’s how the people inside an organization respond to adversity that makes all the\ndifference. Drawing from his own life and leadership experiences\, Weldon Long gives leaders tactics\nfor turning adversity upside-down\, so it works as a positive force for individual\, team and organization\ngrowth. \n\nRegister today!  Contact Lea Almagno at 303-796-0444 or Lea.Almagno@executiveforum.net
URL:https://executiveforum.net/event/executive-forums-leadership-series-presents-weldon-long/
LOCATION:The Denver Center for the Performing Arts\, 1101 13th Street\, Denver\, CO\, 80204\, United States
CATEGORIES:Leadership Series
ATTACH;FMTTYPE=image/jpeg:https://executiveforum.net/wp-content/uploads/2019/11/LS-Logo.jpg
ORGANIZER;CN="Lea Almagno":MAILTO:lea.almagno@executiveforum.net
END:VEVENT
BEGIN:VEVENT
DTSTART;TZID=America/Denver:20200211T083000
DTEND;TZID=America/Denver:20200211T113000
DTSTAMP:20260423T140319
CREATED:20191118T181734Z
LAST-MODIFIED:20191118T184522Z
UID:12894-1581409800-1581420600@executiveforum.net
SUMMARY:Executive Forum’s Leadership Series® Presents Debra Fine
DESCRIPTION:Building Business Relationships: One Conversation at a Time \nThe ability to influence\, engage and motivate others — these critical leadership qualities depend on\nstrong conversation skills. Business communications expert Debra Fine shows leaders how to make\nevery conversation count\, with a powerful\, proven approach to making the personal connections that\nare vital to a leader’s\, and an organization’s\, success. \nRegister today!  Contact Lea Almagno at 303-796-0444 or Lea.Almagno@executiveforum.net
URL:https://executiveforum.net/event/executive-forums-leadership-series-debra-fine/
LOCATION:The Denver Center for the Performing Arts\, 1101 13th Street\, Denver\, CO\, 80204\, United States
CATEGORIES:Leadership Series
ATTACH;FMTTYPE=image/jpeg:https://executiveforum.net/wp-content/uploads/2019/11/LS-Logo.jpg
ORGANIZER;CN="Lea Almagno":MAILTO:lea.almagno@executiveforum.net
END:VEVENT
BEGIN:VEVENT
DTSTART;TZID=America/Denver:20191204T083000
DTEND;TZID=America/Denver:20191204T113000
DTSTAMP:20260423T140319
CREATED:20181018T221423Z
LAST-MODIFIED:20190404T164606Z
UID:12015-1575448200-1575459000@executiveforum.net
SUMMARY:Executive Forum's Leadership Series® presents Pandit Dasa
DESCRIPTION:Mindful Leadership: Be the Change You Wish to See\n“Be the change you wish to see in the world.” Mahatma Gandhi’s words apply to leadership as much as they do to life. And Pandit Dasa shows leaders how to harness the simple but powerful practice of mindfulness to create an environment where people are inspired\, they embrace change and are consistently willing to set aside their own self-interest for the greater good.\nAmid the frenetic pace at which the business world moves\, leaders seldom have an opportunity to reflect on their own leadership practice. Dasa gives them an opportunity\, and the mindfulness techniques\, to do exactly that. These are techniques people can apply\, whatever their role or position\, to unlock the power of the mind\, and in the process to create an environment where less ego\, lower stress and greater peace of mind drive higher productivity and performance.\nRegister today!  Contact Lea Almagno at 303-796-0444 or Lea.Almagno@executiveforum.net
URL:https://executiveforum.net/event/leadership-series-pandit-dasa-mindful-leadership-the-denver-center-for-the-performing-arts/
LOCATION:The Denver Center for the Performing Arts\, 1101 13th Street\, Denver\, CO\, 80204\, United States
CATEGORIES:Leadership Series
ORGANIZER;CN="Lea Almagno":MAILTO:lea.almagno@executiveforum.net
END:VEVENT
BEGIN:VEVENT
DTSTART;TZID=America/Denver:20191029T083000
DTEND;TZID=America/Denver:20191029T113000
DTSTAMP:20260423T140319
CREATED:20190121T203408Z
LAST-MODIFIED:20190404T164705Z
UID:12012-1572337800-1572348600@executiveforum.net
SUMMARY:Executive Forum's Leadership Series® presents Dawnna St. Louis
DESCRIPTION:7 Triggers to Yes: The New Science Behind Influencing People’s Decisions\nThe power to influence others is among a leader’s most bankable skills — and one they can learn to build in themselves and others. All it takes is a bit of psychological insight into what truly sways people\, and a keen sense for which buttons to push\, when.\nWith 7 Triggers to Yes\, master business strategist Dawnna St. Louis delivers proven techniques for getting clients\, customers and your own teams to rally behind your ideas\, buy into your vision\, support your brand and follow your lead. Part art\, part science and wholly game-changing\, St. Louis’s approach shows leaders how to subtly but impactfully shape peoples’ decision-making and create the outcomes they seek\, simply by recognizing what makes people tick.\nRegister today! Contact Lea Almagno at 303-796-0444 or Lea.Almagno@executiveforum.net
URL:https://executiveforum.net/event/leadership-series-dawnna-st-louis-7-triggers-to-yes-the-denver-center-for-the-performing-arts/
LOCATION:The Denver Center for the Performing Arts\, 1101 13th Street\, Denver\, CO\, 80204\, United States
CATEGORIES:Leadership Series
ORGANIZER;CN="Lea Almagno":MAILTO:lea.almagno@executiveforum.net
END:VEVENT
BEGIN:VEVENT
DTSTART;TZID=America/Denver:20190910T083000
DTEND;TZID=America/Denver:20190910T113000
DTSTAMP:20260423T140319
CREATED:20181018T221807Z
LAST-MODIFIED:20190404T164753Z
UID:12009-1568104200-1568115000@executiveforum.net
SUMMARY:Executive Forum's Leadership Series® presents Bob McGannon
DESCRIPTION:Intelligent Disobedience: A Rulebook for Breaking the Rules and Improving Your Performance\nThere’s a right time and place for leaders to discard “the rules” and prioritize results over process compliance\, innovation over rote\, business-as-usual constraints. This vital intangible skill is called “intelligent disobedience\,” and Bob McGannon teaches leaders how to develop it in themselves\, to the benefit of the people\, teams and organizations they lead.\nOutstanding leaders have the courage and the business intellect to recognize exactly when to countermand a management decision or directive for the greater good of the organization. McGannon\, author of the 2018 book Intelligent Disobedience: The Difference Between Good and Great Leaders\, gives leaders a set of defined cues\, skills and tactics to excel at intelligent disobedience\, so they become even greater assets to their organizations\, while remaining true to overarching business requirements and goals.\nRegister today!  Contact Lea Almagno at 303-796-0444 or Lea.Almagno@executiveforum.net
URL:https://executiveforum.net/event/leadership-series-bob-mcgannon-intelligent-disobedience-the-denver-center-for-the-performing-arts/
LOCATION:The Denver Center for the Performing Arts\, 1101 13th Street\, Denver\, CO\, 80204\, United States
CATEGORIES:Leadership Series
ORGANIZER;CN="Lea Almagno":MAILTO:lea.almagno@executiveforum.net
END:VEVENT
BEGIN:VEVENT
DTSTART;TZID=America/Denver:20190626T083000
DTEND;TZID=America/Denver:20190626T113000
DTSTAMP:20260423T140319
CREATED:20181018T222037Z
LAST-MODIFIED:20190404T164845Z
UID:12007-1561537800-1561548600@executiveforum.net
SUMMARY:Executive Forum's Leadership Series® presents John Register
DESCRIPTION:Hurdling Adversity: The Power of Inspiration\nWhen a leader consistently finds ways to inspire people\, positive results are sure to follow. TedX speaker and medal-winning Paralympic athlete John Register shows leaders how to kindle inspiration in others\, then to harness that inspiration within a self-sustaining loop where motivation ignites action\, action yields results and results spark even greater inspiration.\nThere’s a reservoir of raw potential inside every person and on every team\, and Register shares a proven model for unleashing it to improve performance across the board\, at the individual\, team and organizational levels. In a highly interactive and galvanizing workshop-style setting\, leaders learn to apply a series of powerful communications approaches and techniques to inspire people by connecting them to a vision and a mission.\nRegister today!  Contact Lea Almagno at 303-796-0444 or Lea.Almagno@executiveforum.net\n 
URL:https://executiveforum.net/event/leadership-series-john-register-hurdling-adversity-the-denver-center-for-the-performing-arts/
LOCATION:The Denver Center for the Performing Arts\, 1101 13th Street\, Denver\, CO\, 80204\, United States
CATEGORIES:Leadership Series
ORGANIZER;CN="Lea Almagno":MAILTO:lea.almagno@executiveforum.net
END:VEVENT
BEGIN:VEVENT
DTSTART;TZID=America/Denver:20190514T083000
DTEND;TZID=America/Denver:20190514T113000
DTSTAMP:20260423T140319
CREATED:20181018T222321Z
LAST-MODIFIED:20190404T164920Z
UID:12005-1557822600-1557833400@executiveforum.net
SUMMARY:Executive Forum's Leadership Series® presents Dr. Paul Zak
DESCRIPTION:The Trust Factor: The Science of Creating High-Performance Companies\nMix a bit of neuroscience with a measure of nitty-gritty business acumen\, infuse it with trust\, love and morality\, and you have Dr. Paul Zak’s formula for creating high-performing individuals\, teams and organizations.\nDr. Paul Zak’s two decades of research have taken him from the Pentagon to Fortune 50 boardrooms to the rain forest of Papua New Guinea\, all to document the strong connection between neuroscience\, human performance and organizational culture. Zak brings that connection to life with a brain-science-meets-the-bottom-line approach where leaders at all levels learn uniquely effective ways to connect with others\, build authentic relationships\, collaborate and execute.\nRegister today!  Contact Lea Almagno at 303-796-0444 or Lea.Almagno@executiveforum.net
URL:https://executiveforum.net/event/leadership-series-dr-paul-zak-the-trust-factor-the-denver-center-for-the-performing-arts/
LOCATION:The Denver Center for the Performing Arts\, 1101 13th Street\, Denver\, CO\, 80204\, United States
CATEGORIES:Leadership Series
ORGANIZER;CN="Lea Almagno":MAILTO:lea.almagno@executiveforum.net
END:VEVENT
BEGIN:VEVENT
DTSTART;TZID=America/Denver:20190319T083000
DTEND;TZID=America/Denver:20190319T113000
DTSTAMP:20260423T140319
CREATED:20181018T222729Z
LAST-MODIFIED:20190121T204137Z
UID:12003-1552984200-1552995000@executiveforum.net
SUMMARY:Leadership Series- Kelly McDonald: How to Lead People Not Like You @ The Denver Center for the Performing Arts
DESCRIPTION:How to Lead People Not Like You \nGuest Speaker: Kelly McDonald \nDiversity can be either a positive force or a divisive one inside an organization. Kelly McDonald shows leaders how to get individuals with\nwidely disparate backgrounds\, mindsets and motivations to collaborate effectively\, to rally around common goals and to consistently\nproduce at a high level. The end result is a thriving workplace culture and an organization that succeeds not in spite of peoples’\ndifferences but because of them.
URL:https://executiveforum.net/event/leadership-series-kelly-mcdonald-how-to-lead-people-not-like-you-the-denver-center-for-the-performing-arts/
LOCATION:The Denver Center for the Performing Arts\, 1101 13th Street\, Denver\, CO\, 80204\, United States
CATEGORIES:Leadership Series
ATTACH;FMTTYPE=image/jpeg:https://executiveforum.net/wp-content/uploads/2018/10/Kelly-McDonald-LS.jpg
ORGANIZER;CN="Lea Almagno":MAILTO:lea.almagno@executiveforum.net
END:VEVENT
BEGIN:VEVENT
DTSTART;TZID=America/Denver:20190205T083000
DTEND;TZID=America/Denver:20190205T113000
DTSTAMP:20260423T140319
CREATED:20181018T222758Z
LAST-MODIFIED:20190121T203626Z
UID:12001-1549355400-1549366200@executiveforum.net
SUMMARY:Leadership Series- Tamara Kleinberg: Moving at the Speed of Innovation @ The Denver Center for the Performing Arts
DESCRIPTION:Moving at the Speed of Innovation \nGuest Speaker: Tamara Kleinberg \nIn a world where irrelevance lurks around every corner and being better isn’t good enough\, Tamara Kleinberg shows leaders how to\nlift people above the confining processes and practices that stifle ideas and creativity. In a highly interactive workshop setting\, leaders\nlearn how to get people to perform at their peak\, use innovative thinking to move the needle measurably\, not just incrementally\, and\nintegrate innovation into their organizational DNA.
URL:https://executiveforum.net/event/leadership-series-tamara-kleinberg-moving-at-the-speed-of-innovation-the-denver-center-for-the-performing-arts/
LOCATION:The Denver Center for the Performing Arts\, 1101 13th Street\, Denver\, CO\, 80204\, United States
CATEGORIES:Leadership Series
ATTACH;FMTTYPE=image/jpeg:https://executiveforum.net/wp-content/uploads/2018/10/Tamara-Kleinberg-LS.jpg
ORGANIZER;CN="Lea Almagno":MAILTO:lea.almagno@executiveforum.net
END:VEVENT
BEGIN:VEVENT
DTSTART;TZID=America/Denver:20161025T083000
DTEND;TZID=America/Denver:20161025T113000
DTSTAMP:20260423T140319
CREATED:20160601T051920Z
LAST-MODIFIED:20160601T054437Z
UID:9686-1477384200-1477395000@executiveforum.net
SUMMARY:Leadership Series - Gustavo Grodnitzky: Culture Trumps Everything @ The Denver Center for the Performing Arts
DESCRIPTION:Culture Trumps Everything \nGuest Speaker: Gustavo Grodnitzky \n \nWant More Information About This Program? CLICK HERE for details.
URL:https://executiveforum.net/event/leadership-series-gustavo-grodnitzky-culture-trumps-everything-the-denver-center-for-the-performing-arts/
CATEGORIES:Leadership Series
ATTACH;FMTTYPE=image/jpeg:https://executiveforum.net/wp-content/uploads/2016/05/g._grodnitzky-title.jpg
END:VEVENT
BEGIN:VEVENT
DTSTART;TZID=America/Denver:20160913T083000
DTEND;TZID=America/Denver:20160913T113000
DTSTAMP:20260423T140319
CREATED:20160527T231730Z
LAST-MODIFIED:20160601T052553Z
UID:9615-1473755400-1473766200@executiveforum.net
SUMMARY:Leadership Series - Jason Jennings: The Reinventors @ The Denver Center for the Performing Arts
DESCRIPTION:The Reinventors \nGuest Speaker: Jason Jennings \n \n  \nWant More Information About This Program? CLICK HERE for details.
URL:https://executiveforum.net/event/leadership-series-jason-jennings-the-reinventors-091316-the-denver-center-for-the-performing-arts/
CATEGORIES:Leadership Series
ATTACH;FMTTYPE=image/jpeg:https://executiveforum.net/wp-content/uploads/2016/05/jason_jennings-title.jpg
END:VEVENT
BEGIN:VEVENT
DTSTART;TZID=America/Denver:20160621T083000
DTEND;TZID=America/Denver:20160621T113000
DTSTAMP:20260423T140319
CREATED:20160531T142113Z
LAST-MODIFIED:20160601T050634Z
UID:9662-1466497800-1466508600@executiveforum.net
SUMMARY:Leadership Series - Mike Hyter: Power of Choice @ The Denver Center for the Performing Arts
DESCRIPTION:Power of Choice \nGuest Speaker: Mike Hyter \n \n&nbsp; \nWant More Information About This Program? CLICK HERE for details.
URL:https://executiveforum.net/event/mike-hyter-power-of-choice-embracing-efficacy-to-drive-career-growth-and-organizational-performance/
CATEGORIES:Leadership Series
ATTACH;FMTTYPE=image/jpeg:https://executiveforum.net/wp-content/uploads/2016/05/mike_hyter-title.jpg
END:VEVENT
BEGIN:VEVENT
DTSTART;TZID=UTC:20160511T080000
DTEND;TZID=UTC:20160511T170000
DTSTAMP:20260423T140319
CREATED:20160411T091702Z
LAST-MODIFIED:20160601T051039Z
UID:8382-1462953600-1462986000@executiveforum.net
SUMMARY:Leadership Series – Joseph Grenny: Crucial Conversations® @ The Denver Center for the Performing Arts
DESCRIPTION:
URL:https://executiveforum.net/event/leadership-series-joseph-grenny-crucial-conversations/
LOCATION:The Denver Center for the Performing Arts\, 1101 13th Street\, Denver\, CO\, 80204\, United States
CATEGORIES:Leadership Series
ATTACH;FMTTYPE=image/jpeg:https://executiveforum.net/wp-content/uploads/2016/05/grenny_16-title.jpg
ORGANIZER;CN="Ann Albergotti":MAILTO:ann.albergotti@executiveforum.net
END:VEVENT
BEGIN:VEVENT
DTSTART;TZID=UTC:20160310T083000
DTEND;TZID=UTC:20160310T113000
DTSTAMP:20260423T140319
CREATED:20160125T152857Z
LAST-MODIFIED:20160531T144739Z
UID:7462-1457598600-1457609400@executiveforum.net
SUMMARY:Leadership Series – Cy Wakeman: Reality-Based Leadership @ The Denver Center for the Performing Arts
DESCRIPTION:Reality-Based Leadership \nGuest Speaker: Cy Wakeman \n \n  \nWant More Information About This Program? CLICK HERE for details.
URL:https://executiveforum.net/event/leadership-series-cy-wakeman-reality-based-leadership-the-denver-center-for-the-performing-arts/
LOCATION:The Denver Center for the Performing Arts\, 1101 13th Street\, Denver\, CO\, 80204\, United States
CATEGORIES:Leadership Series
ATTACH;FMTTYPE=image/jpeg:https://executiveforum.net/wp-content/uploads/2016/04/cy_wakeman-title.jpg
ORGANIZER;CN="Ann Albergotti":MAILTO:ann.albergotti@executiveforum.net
END:VEVENT
BEGIN:VEVENT
DTSTART;TZID=UTC:20160127T083000
DTEND;TZID=UTC:20160127T113000
DTSTAMP:20260423T140319
CREATED:20160121T115805Z
LAST-MODIFIED:20160601T050458Z
UID:7448-1453883400-1453894200@executiveforum.net
SUMMARY:Leadership Series - Seth Mattison: The Future of Work @ The Denver Center for the Performing Arts
DESCRIPTION:The Future of Work \nGuest Speaker: Seth Mattison \n \nWant More Information About This Program? CLICK HERE for details.
URL:https://executiveforum.net/event/leadership-series-seth-mattison-the-future-of-work/
LOCATION:The Denver Center for the Performing Arts\, 1101 13th Street\, Denver\, CO\, 80204\, United States
CATEGORIES:Leadership Series
ATTACH;FMTTYPE=image/jpeg:https://executiveforum.net/wp-content/uploads/2016/05/seth_mattison-title_1k.jpg
ORGANIZER;CN="Ann Albergotti":MAILTO:ann.albergotti@executiveforum.net
END:VEVENT
END:VCALENDAR